BEGIN:VCALENDAR
VERSION:2.0
PRODID:-//Le Club des Entrepreneurs - ECPv5.9.2//NONSGML v1.0//EN
CALSCALE:GREGORIAN
METHOD:PUBLISH
X-WR-CALNAME:Le Club des Entrepreneurs
X-ORIGINAL-URL:https://www.lesentrepreneurs.org
X-WR-CALDESC:évènements pour Le Club des Entrepreneurs
BEGIN:VTIMEZONE
TZID:Europe/Paris
BEGIN:DAYLIGHT
TZOFFSETFROM:+0100
TZOFFSETTO:+0200
TZNAME:CEST
DTSTART:20150329T010000
END:DAYLIGHT
BEGIN:STANDARD
TZOFFSETFROM:+0200
TZOFFSETTO:+0100
TZNAME:CET
DTSTART:20151025T010000
END:STANDARD
END:VTIMEZONE
BEGIN:VEVENT
DTSTART;TZID=Europe/Paris:20150129T183000
DTEND;TZID=Europe/Paris:20150129T203000
DTSTAMP:20260421T220526
CREATED:20150123T171458Z
LAST-MODIFIED:20150123T171458Z
UID:2305-1422556200-1422563400@www.lesentrepreneurs.org
SUMMARY:Dîner au Cercle des Armées
DESCRIPTION:Dîner avec Yves Jégo au Cercle des Armées
URL:https://www.lesentrepreneurs.org/agenda/diner-au-cercle-des-armees/
END:VEVENT
END:VCALENDAR